BEGIN:VCALENDAR
VERSION:2.0
PRODID:-//Squarespace Inc/Squarespace 6//v6//EN
BEGIN:VEVENT
UID:5a58328d9140b7a084551d37@squarespace.com
DTSTAMP:20180624T220717Z
DTSTART:20180710T230000Z
DTEND:20180711T050000Z
SUMMARY:Lego Sales & Exhibition
GEO:-31.128524;150.94089
LOCATION:Carinya Christian School\, Performing Arts Centre\, 25 Boronia Dri
 ve\, Calala\, NSW\, 2340\, Australia
END:VEVENT
END:VCALENDAR
