BEGIN:VCALENDAR
VERSION:2.0
PRODID:-//Squarespace Inc/Squarespace 6//v6//EN
BEGIN:VEVENT
UID:5a582f39e2c483ae829774a4@squarespace.com
DTSTAMP:20180624T220623Z
DTSTART:20180709T230000Z
DTEND:20180710T050000Z
SUMMARY:Lego Sales & Exhibition
GEO:-31.128524;150.94089
LOCATION:Carinya Christian School\, Performing Arts Centre\, 25 Boronia Dri
 ve\, Calala\, NSW\, 2340\, Australia
END:VEVENT
END:VCALENDAR
