BEGIN:VCALENDAR
VERSION:2.0
PRODID:-//Squarespace Inc/Squarespace 6//v6//EN
BEGIN:VEVENT
UID:5bb54a47104c7b807ae55a8b@squarespace.com
DTSTAMP:20181003T231630Z
DTSTART:20181123T023000Z
DTEND:20181123T034500Z
SUMMARY:2019 Kindergarten Transition Program: Day 1
GEO:-31.130303;150.938912
LOCATION:Carinya Christian School\, 25 Boronia Drive\, Calala\, NSW\, 2340\
 , Australia
END:VEVENT
END:VCALENDAR
