BEGIN:VCALENDAR
VERSION:2.0
PRODID:-//Squarespace Inc/Squarespace 6//v6//EN
BEGIN:VEVENT
UID:5bb54d7b0d92974e79508638@squarespace.com
DTSTAMP:20181003T231607Z
DTSTART:20181206T220000Z
DTEND:20181206T234500Z
SUMMARY:2019 Kindergarten Transition Program: Day 3
GEO:-31.130303;150.938912
LOCATION:Carinya Christian School\, 25 Boronia Drive\, Calala\, NSW\, 2340\
 , Australia
END:VEVENT
END:VCALENDAR
