BEGIN:VCALENDAR
VERSION:2.0
PRODID:-//Squarespace Inc/Squarespace 6//v6//EN
BEGIN:VEVENT
UID:5bb54d57e4966b8d08ade458@squarespace.com
DTSTAMP:20181003T231619Z
DTSTART:20181130T023000Z
DTEND:20181130T034500Z
SUMMARY:2019 Kindergarten Transition Program: Day 2
GEO:-31.130303;150.938912
LOCATION:Carinya Christian School\, 25 Boronia Drive\, Calala\, NSW\, 2340\
 , Australia
END:VEVENT
END:VCALENDAR
