BEGIN:VCALENDAR
VERSION:2.0
PRODID:-//Squarespace Inc/Squarespace 6//v6//EN
BEGIN:VEVENT
UID:59f27cf8085229b30bfe1e95@squarespace.com
DTSTAMP:20181213T000931Z
DTSTART:20190529T231500Z
DTEND:20190530T011500Z
SUMMARY:Term 2 Under 5s Adventure Morning
GEO:-31.128401;150.94108
LOCATION:Carinya Christian School Tamworth\, Early Learning Program\, 25 Bo
 ronia Drive\, Calala\, NSW\, 2340\, Australia
END:VEVENT
END:VCALENDAR
