BEGIN:VCALENDAR
VERSION:2.0
PRODID:-//Squarespace Inc/Squarespace 6//v6//EN
BEGIN:VEVENT
UID:59f27d34085229b30bfe2369@squarespace.com
DTSTAMP:20181213T003213Z
DTSTART:20190821T231500Z
DTEND:20190822T011500Z
SUMMARY:Term 3 Under 5s Adventure Morning
GEO:-31.130303;150.938912
LOCATION:Lilly Pilly Cottage\, Carinya Christian School Tamworth\, 25 Boron
 ia Drive\, Calala\, NSW\, 2340\, Australia
END:VEVENT
END:VCALENDAR
