BEGIN:VCALENDAR
VERSION:2.0
PRODID:-//Squarespace Inc/Squarespace 6//v6//EN
BEGIN:VEVENT
UID:5c11a88d352f537381ab85ce@squarespace.com
DTSTAMP:20181213T003326Z
DTSTART:20191113T221500Z
DTEND:20191114T001500Z
SUMMARY:Term 4 Under 5s Adventure Morning
GEO:-31.130303;150.938912
LOCATION:Lilly Pilly Cottage\, Carinya Christian School Tamworth\, 25 Boron
 ia Drive\, Calala\, NSW\, 2340\, Australia
END:VEVENT
END:VCALENDAR
