BEGIN:VCALENDAR
VERSION:2.0
PRODID:-//Squarespace Inc/Squarespace 6//v6//EN
BEGIN:VEVENT
UID:5bb54fa524a694de2a13481b@squarespace.com
DTSTAMP:20181003T232834Z
DTSTART:20181121T060000Z
DTEND:20181121T090000Z
SUMMARY:Carinya Creates
GEO:-31.130303;150.938912
LOCATION:Carinya Christian School\, 25. Boronia Drive\, Calala\, NSW\, 2340
 \, Australia
END:VEVENT
END:VCALENDAR
