BEGIN:VCALENDAR
VERSION:2.0
PRODID:-//Squarespace Inc/Squarespace 6//v6//EN
BEGIN:VEVENT
UID:5c367dd2562fa7eeb94d9dd0@squarespace.com
DTSTAMP:20190109T230628Z
DTSTART:20190302T083000Z
DTEND:20190302T103000Z
SUMMARY:Chitty Chitty Bang Bang (Closing Night)
GEO:-31.130303;150.938912
LOCATION:Carinya Christian School\, 25 Boronia Drive\, CALALA\, Australia
END:VEVENT
END:VCALENDAR
