BEGIN:VCALENDAR
VERSION:2.0
PRODID:-//Squarespace Inc/Squarespace 6//v6//EN
BEGIN:VEVENT
UID:5c367b25032be43f60cbd56f@squarespace.com
DTSTAMP:20190109T225355Z
DTSTART:20190223T033000Z
DTEND:20190223T053000Z
SUMMARY:Chitty Chitty Bang Bang (Matinee)
GEO:-31.130303;150.938912
LOCATION:Carinya Christian School\, 25 Boronia Drive\, CALALA\, Australia
END:VEVENT
END:VCALENDAR
