BEGIN:VCALENDAR
VERSION:2.0
PRODID:-//Squarespace Inc/Squarespace 6//v6//EN
BEGIN:VEVENT
UID:5c3677fd758d463f570efbfd@squarespace.com
DTSTAMP:20190109T230221Z
DTSTART:20190220T083000Z
DTEND:20190220T103000Z
SUMMARY:Chitty Chitty Bang Bang (Opening Night)
GEO:-31.130303;150.938912
LOCATION:Carinya Christian School\, 25 Boronia Drive\, CALALA\, Australia
END:VEVENT
END:VCALENDAR
