BEGIN:VCALENDAR
VERSION:2.0
PRODID:-//Squarespace Inc/Squarespace 6//v6//EN
BEGIN:VEVENT
UID:5c367a56758d463f570f26af@squarespace.com
DTSTAMP:20190109T225704Z
DTSTART:20190222T083000Z
DTEND:20190222T103000Z
SUMMARY:Chitty Chitty Bang Bang (Second Night)
GEO:-31.130303;150.938912
LOCATION:Carinya Christian School\, 25 Boronia Drive\, CALALA\, Australia
END:VEVENT
END:VCALENDAR
