BEGIN:VCALENDAR
VERSION:2.0
PRODID:-//Squarespace Inc/Squarespace 6//v6//EN
BEGIN:VEVENT
UID:5c414cb18985838c364a2dc1@squarespace.com
DTSTAMP:20190118T035010Z
DTSTART:20190221T211500Z
DTEND:20190221T223000Z
SUMMARY:Carinya Connect Coffee Morning
GEO:-31.128401;150.94108
LOCATION:Carinya Christian School Tamworth\, 25 Boronia Drive\, Calala\, NS
 W\, 2340\, Australia
END:VEVENT
END:VCALENDAR
