BEGIN:VCALENDAR
VERSION:2.0
PRODID:-//Squarespace Inc/Squarespace 6//v6//EN
BEGIN:VEVENT
UID:5a8dfdd08165f5e2d9ea39ab@squarespace.com
DTSTAMP:20190213T212721Z
DTSTART:20190214T063000Z
DTEND:20190214T083000Z
SUMMARY:Middle/Senior School Family Night
GEO:-31.130303;150.938912
LOCATION:Carinya Christian School\, 25 Boronia Drive\, Calala\, NSW\, 2340\
 , Australia
END:VEVENT
END:VCALENDAR
