BEGIN:VCALENDAR
VERSION:2.0
PRODID:-//Squarespace Inc/Squarespace 6//v6//EN
BEGIN:VEVENT
UID:5ac6ebdb03ce64575313fbfe@squarespace.com
DTSTAMP:20181213T045201Z
DTSTART:20190620T231500Z
DTEND:20190621T023000Z
SUMMARY:Grandparents &amp\; Special Visitors Day (Gumnuts - Yr 4)
GEO:-31.128524;150.94089
LOCATION:Carinya Christian School\, 25 Boronia Drive\, Calala\, NSW\, 2340\
 , Australia
END:VEVENT
END:VCALENDAR
