BEGIN:VCALENDAR
VERSION:2.0
PRODID:-//Squarespace Inc/Squarespace 6//v6//EN
BEGIN:VEVENT
UID:5aea886d575d1f6c118fde3e@squarespace.com
DTSTAMP:20181213T043743Z
DTSTART:20190510T024500Z
DTEND:20190510T050500Z
SUMMARY:K-2 Athletics Carnival
GEO:-31.128524;150.94089
LOCATION:Carinya Christian School\, 25 Boronia Drive\, Calala\, NSW\, 2340\
 , Australia
END:VEVENT
END:VCALENDAR
