BEGIN:VCALENDAR
VERSION:2.0
PRODID:-//Squarespace Inc/Squarespace 6//v6//EN
BEGIN:VEVENT
UID:5b107e8103ce64787ea21fa0@squarespace.com
DTSTAMP:20180717T042940Z
DTSTART:20180802T230000Z
DTEND:20180803T010000Z
SUMMARY:Kindergarten 2019 School Readiness Program
GEO:-31.128524;150.94089
LOCATION:Carinya Christian School\, 25 Boronia Drive\, Calala\, NSW\, 2340\
 , Australia
END:VEVENT
END:VCALENDAR
