BEGIN:VCALENDAR
VERSION:2.0
PRODID:-//Squarespace Inc/Squarespace 6//v6//EN
BEGIN:VEVENT
UID:5bdbb1bc4fa51a6960d4c3d0@squarespace.com
DTSTAMP:20181102T021411Z
DTSTART:20181116T220000Z
DTEND:20181117T040000Z
SUMMARY:Musical Sewing Bee
GEO:-31.130303;150.938912
LOCATION:Carinya Christian School\, 25 Boronia Drive\, Calala\, NSW\, 2340\
 , Australia
END:VEVENT
END:VCALENDAR
