BEGIN:VCALENDAR
VERSION:2.0
PRODID:-//Squarespace Inc/Squarespace 6//v6//EN
BEGIN:VEVENT
UID:5c53dbf56e9a7f5650b8674d@squarespace.com
DTSTAMP:20190201T054158Z
DTSTART:20190213T083000Z
DTEND:20190213T103000Z
SUMMARY:Carinya Connect Parent Help Night
GEO:-31.128401;150.94108
LOCATION:Carinya Christian School Tamworth - Admin Building\, 25 Boronia Dr
 ive\, Calala\, NSW\, 2340\, Australia
END:VEVENT
END:VCALENDAR
