BEGIN:VCALENDAR
VERSION:2.0
PRODID:-//Squarespace Inc/Squarespace 6//v6//EN
BEGIN:VEVENT
UID:5ac57c6faa4a9945540de430@squarespace.com
DTSTAMP:20181213T044839Z
DTSTART:20190522T093000Z
DTEND:20190522T113000Z
SUMMARY:Carinya Connect Parent Help Night
GEO:-31.128401;150.94108
LOCATION:Carinya Christian School Tamworth - Admin Building\, 25 Boronia Dr
 ive\, Calala\, NSW\, 2340\, Australia
END:VEVENT
END:VCALENDAR
