BEGIN:VCALENDAR
VERSION:2.0
PRODID:-//Squarespace Inc/Squarespace 6//v6//EN
BEGIN:VEVENT
UID:5b46da5e6d2a73a54f7712d6@squarespace.com
DTSTAMP:20180829T230030Z
DTSTART:20181107T083000Z
DTEND:20181107T103000Z
SUMMARY:Carinya Connect Parent Help Night
GEO:-31.128401;150.94108
LOCATION:Carinya Christian School Tamworth - Admin Building\, 25 Boronia Dr
 ive\, Calala\, NSW\, 2340\, Australia
END:VEVENT
END:VCALENDAR
