BEGIN:VCALENDAR
VERSION:2.0
PRODID:-//Squarespace Inc/Squarespace 6//v6//EN
BEGIN:VEVENT
UID:595da6769f7456e91f75682a@squarespace.com
DTSTAMP:20170706T025848Z
DTSTART:20170720T000000Z
DTEND:20170720T010000Z
SUMMARY:Play School Concert
GEO:-31.128401;150.94108
LOCATION:Carinya Christian School Tamworth\, 25 Boronia Drive\, Calala\, NS
 W\, 2340\, Australia
END:VEVENT
END:VCALENDAR
