BEGIN:VCALENDAR
VERSION:2.0
PRODID:-//Squarespace Inc/Squarespace 6//v6//EN
BEGIN:VEVENT
UID:5a8dfe48c8302529b5180714@squarespace.com
DTSTAMP:20190213T212349Z
DTSTART:20190307T063000Z
DTEND:20190307T083000Z
SUMMARY:Prep - Year 4 Picnic
GEO:-31.128401;150.94108
LOCATION:Carinya Christian School\, 25 Boronia Drive\, Calala\, NSW\, 2340\
 , Australia
END:VEVENT
END:VCALENDAR
