BEGIN:VCALENDAR
VERSION:2.0
PRODID:-//Squarespace Inc/Squarespace 6//v6//EN
BEGIN:VEVENT
UID:5aeba487562fa73b77412ce2@squarespace.com
DTSTAMP:20181213T045058Z
DTSTART:20190604T233000Z
DTEND:20190605T050000Z
SUMMARY:Primary Athletics Carnival
GEO:-31.130943;150.917883
LOCATION:Tamworth Regional Sporting Complex Athletics Field\, Longyard Driv
 e\, Hillvue\, NSW\, 2340\, Australia
END:VEVENT
END:VCALENDAR
