BEGIN:VCALENDAR
VERSION:2.0
PRODID:-//Squarespace Inc/Squarespace 6//v6//EN
BEGIN:VEVENT
UID:5b6a50ca1ae6cfd40107e5c1@squarespace.com
DTSTAMP:20181213T045007Z
DTSTART:20190828T230000Z
DTEND:20190829T053000Z
SUMMARY:School Photos - Sporting Teams
GEO:-31.130303;150.938912
LOCATION:Carinya Christian School Tamworth\, 25 Boronia Drive\, Calala\, NS
 W\, 2340\, Australia
END:VEVENT
END:VCALENDAR
