BEGIN:VCALENDAR
VERSION:2.0
PRODID:-//Squarespace Inc/Squarespace 6//v6//EN
BEGIN:VEVENT
UID:5b6a4f3788251b72932fac8e@squarespace.com
DTSTAMP:20181213T044927Z
DTSTART:20190827T223000Z
DTEND:20190828T050000Z
SUMMARY:School Photos - Class\, Individuals &amp\; Siblings
GEO:-31.130303;150.938912
LOCATION:Carinya Christian School Tamworth\, 25 Boronia Drive\, Calala\, NS
 W\, 2340\, Australia
END:VEVENT
END:VCALENDAR
