BEGIN:VCALENDAR
VERSION:2.0
PRODID:-//Squarespace Inc/Squarespace 6//v6//EN
BEGIN:VEVENT
UID:59f26d622774d1b6f794050d@squarespace.com
DTSTAMP:20190124T031441Z
DTSTART:20190719T233000Z
DTEND:20190720T013000Z
SUMMARY:Carinya Connect Whole School Social
GEO:-31.078109;150.944861
LOCATION:Tamworth and District Model Engineers
END:VEVENT
END:VCALENDAR
