BEGIN:VCALENDAR
VERSION:2.0
PRODID:-//Squarespace Inc/Squarespace 6//v6//EN
BEGIN:VEVENT
UID:59f26d90085229b30bfcbabc@squarespace.com
DTSTAMP:20190124T031329Z
DTSTART:20191011T223000Z
DTEND:20191012T003000Z
SUMMARY:Carinya Connect Whole School Social
GEO:-31.078109;150.944861
LOCATION:Tamworth and District Model Engineers
END:VEVENT
END:VCALENDAR
