BEGIN:VCALENDAR
VERSION:2.0
PRODID:-//Squarespace Inc/Squarespace 6//v6//EN
BEGIN:VEVENT
UID:5aebaa2b575d1f1b96d04c3f@squarespace.com
DTSTAMP:20181213T045124Z
DTSTART:20190605T233000Z
DTEND:20190606T050000Z
SUMMARY:Secondary Athletics Carnival
GEO:-31.130668;150.916767
LOCATION:Tamworth Regional Sporting Complex Athletics Field\, Longyard Driv
 e\, Hillvue\, NSW\, 2340\, Australia
END:VEVENT
END:VCALENDAR
