BEGIN:VCALENDAR
VERSION:2.0
PRODID:-//Squarespace Inc/Squarespace 6//v6//EN
BEGIN:VEVENT
UID:5c3fadde40ec9a62264e9e0c@squarespace.com
DTSTAMP:20190116T221918Z
DTSTART:20190320T220000Z
DTEND:20190320T230000Z
SUMMARY:Under 5s Storytime
GEO:-31.128524;150.94089
LOCATION:Carinya Christian School Tamworth\, 25 Boronia Drive\, Calala\, NS
 W\, 2340\, Australia
END:VEVENT
END:VCALENDAR
