BEGIN:VCALENDAR
VERSION:2.0
PRODID:-//Squarespace Inc/Squarespace 6//v6//EN
BEGIN:VEVENT
UID:5c3fad9970a6ad6dd64c7d68@squarespace.com
DTSTAMP:20190116T221811Z
DTSTART:20190220T220000Z
DTEND:20190220T230000Z
SUMMARY:Under 5s Storytime
GEO:-31.128524;150.94089
LOCATION:Carinya Christian School Tamworth\, 25 Boronia Drive\, Calala\, NS
 W\, 2340\, Australia
END:VEVENT
END:VCALENDAR
