BEGIN:VCALENDAR
VERSION:2.0
PRODID:-//Squarespace Inc/Squarespace 6//v6//EN
BEGIN:VEVENT
UID:5c48e30f70a6ad721e54ce8c@squarespace.com
DTSTAMP:20190123T215642Z
DTSTART:20190619T230000Z
DTEND:20190620T000000Z
SUMMARY:Under 5s Storytime
GEO:-31.128401;150.94108
LOCATION:Carinya Christian School Tamworth Library\, 25 Boronia Drive\, Cal
 ala\, NSW\, 2340\, Australia
END:VEVENT
END:VCALENDAR
