BEGIN:VCALENDAR
VERSION:2.0
PRODID:-//Squarespace Inc/Squarespace 6//v6//EN
BEGIN:VEVENT
UID:5c48e2acf950b772a64d78b4@squarespace.com
DTSTAMP:20190123T215507Z
DTSTART:20190522T230000Z
DTEND:20190523T000000Z
SUMMARY:Under 5s Storytime
GEO:-31.128401;150.94108
LOCATION:Carinya Christian School Tamworth Library\, 25 Boronia Drive\, Cal
 ala\, NSW\, 2340\, Australia
END:VEVENT
END:VCALENDAR
