BEGIN:VCALENDAR
VERSION:2.0
PRODID:-//Squarespace Inc/Squarespace 6//v6//EN
BEGIN:VEVENT
UID:59f26f22084665b361f57b19@squarespace.com
DTSTAMP:20190123T215452Z
DTSTART:20190508T230000Z
DTEND:20190509T000000Z
SUMMARY:Under 5s Storytime
GEO:-31.128401;150.94108
LOCATION:Carinya Christian School Tamworth Library\, 25 Boronia Drive\, Cal
 ala\, NSW\, 2340\, Australia
END:VEVENT
END:VCALENDAR
