BEGIN:VCALENDAR
VERSION:2.0
PRODID:-//Squarespace Inc/Squarespace 6//v6//EN
BEGIN:VEVENT
UID:5bb5480215fcc03af2455f69@squarespace.com
DTSTAMP:20190124T024701Z
DTSTART:20191023T220000Z
DTEND:20191023T230000Z
SUMMARY:Under 5s Storytime
GEO:-31.128524;150.94089
LOCATION:Carinya Christian School Tamworth\, 25 Boronia Drive\, Calala\, NS
 W\, 2340\, Australia
END:VEVENT
END:VCALENDAR
