BEGIN:VCALENDAR
VERSION:2.0
PRODID:-//Squarespace Inc/Squarespace 6//v6//EN
BEGIN:VEVENT
UID:5c48eb6cc74c50236935f4a2@squarespace.com
DTSTAMP:20190123T223234Z
DTSTART:20190911T230000Z
DTEND:20190912T000000Z
SUMMARY:Under 5s Storytime
GEO:-31.128524;150.94089
LOCATION:Carinya Christian School Tamworth\, 25 Boronia Drive\, Calala\, NS
 W\, 2340\, Australia
END:VEVENT
END:VCALENDAR
