BEGIN:VCALENDAR
VERSION:2.0
PRODID:-//Squarespace Inc/Squarespace 6//v6//EN
BEGIN:VEVENT
UID:5c11db34562fa7d650d2727f@squarespace.com
DTSTAMP:20190201T044432Z
DTSTART:20190206T044500Z
DTEND:20190206T083000Z
SUMMARY:Twilight Swimming Carnival
GEO:-31.103267;150.920301
LOCATION:Scully Park Pool\, Cnr Kent and Belmore St\, Tamworth 2340\, Austr
 alia
END:VEVENT
END:VCALENDAR
