BEGIN:VCALENDAR
VERSION:2.0
PRODID:-//Squarespace Inc/Squarespace 6//v6//EN
BEGIN:VEVENT
UID:595da8a6d482e90783db8a40@squarespace.com
DTSTAMP:20181213T044535Z
DTSTART:20191114T220000Z
DTEND:20191115T000000Z
SUMMARY:Teddy Bear Picnic\, Kindergarten 2020 Orientation
GEO:-31.128401;150.94108
LOCATION:Carinya Christian School Tamworth\, 25 Boronia Drive\, Calala\, NS
 W\, 2340\, Australia
END:VEVENT
END:VCALENDAR
