BEGIN:VCALENDAR
VERSION:2.0
PRODID:-//Squarespace Inc/Squarespace 6//v6//EN
BEGIN:VEVENT
UID:5bb561c2e5e5f011a59ef398@squarespace.com
DTSTAMP:20181213T040307Z
DTSTART:20181213T080000Z
DTEND:20181213T110000Z
SUMMARY:Thanksgiving Concert
GEO:-31.128401;150.94108
LOCATION:Carinya Christian School\, 25 Boronia Drive\, Calala\, NSW\, 2340\
 , Australia
END:VEVENT
END:VCALENDAR
