BEGIN:VCALENDAR
VERSION:2.0
PRODID:-//Squarespace Inc/Squarespace 6//v6//EN
BEGIN:VEVENT
UID:5b6a78eff950b70e70102a05@squarespace.com
DTSTAMP:20181212T234911Z
DTSTART:20180809T230000Z
DTEND:20180810T033000Z
SUMMARY:Year 7 Get Ready Day
GEO:-31.128401;150.94108
LOCATION:Carinya Christian School\, 25 Boronia Drive\, Calala\, NSW\, 2340\
 , Australia
END:VEVENT
END:VCALENDAR
