BEGIN:VCALENDAR
VERSION:2.0
PRODID:-//Squarespace Inc/Squarespace 6//v6//EN
BEGIN:VEVENT
UID:5b762d45c2241bbad196942d@squarespace.com
DTSTAMP:20181212T234911Z
DTSTART:20180927T233000Z
DTEND:20180928T013000Z
SUMMARY:Year 12 Final Assembly
GEO:-31.128401;150.94108
LOCATION:Carinya Christian School Tamworth\, 25 Boronia Drive\, Calala\, NS
 W\, 2340\, Australia
END:VEVENT
END:VCALENDAR
